{
 "currentVersion": 10.91,
 "cimVersion": "2.9.0",
 "serviceDescription": "",
 "mapName": "BaseMap",
 "description": "",
 "copyrightText": "",
 "supportsDynamicLayers": true,
 "layers": [
  {
   "id": 0,
   "name": "Checkpoints | الحواجز",
   "parentLayerId": -1,
   "defaultVisibility": true,
   "subLayerIds": null,
   "minScale": 500000,
   "maxScale": 0,
   "type": "Feature Layer",
   "geometryType": "esriGeometryPoint",
   "supportsDynamicLegends": true
  },
  {
   "id": 1,
   "name": "Ports",
   "parentLayerId": -1,
   "defaultVisibility": true,
   "subLayerIds": null,
   "minScale": 0,
   "maxScale": 0,
   "type": "Feature Layer",
   "geometryType": "esriGeometryPoint",
   "supportsDynamicLegends": true
  },
  {
   "id": 2,
   "name": "AirPorts | المطارات",
   "parentLayerId": -1,
   "defaultVisibility": true,
   "subLayerIds": null,
   "minScale": 0,
   "maxScale": 0,
   "type": "Feature Layer",
   "geometryType": "esriGeometryPoint",
   "supportsDynamicLegends": true
  },
  {
   "id": 3,
   "name": "SeperationWall | جدارالفصل",
   "parentLayerId": -1,
   "defaultVisibility": true,
   "subLayerIds": null,
   "minScale": 0,
   "maxScale": 0,
   "type": "Feature Layer",
   "geometryType": "esriGeometryPolyline",
   "supportsDynamicLegends": true
  },
  {
   "id": 4,
   "name": "Jerusalem Under Jerusalem Municipality | القدس تحت نفوذ بلدية القدس",
   "parentLayerId": -1,
   "defaultVisibility": true,
   "subLayerIds": null,
   "minScale": 0,
   "maxScale": 0,
   "type": "Feature Layer",
   "geometryType": "esriGeometryPolygon",
   "supportsDynamicLegends": true
  },
  {
   "id": 5,
   "name": "Palestinian Localities | التجمعات السكانية",
   "parentLayerId": -1,
   "defaultVisibility": true,
   "subLayerIds": [
    6,
    7
   ],
   "minScale": 500000,
   "maxScale": 500,
   "type": "Group Layer",
   "supportsDynamicLegends": false
  },
  {
   "id": 6,
   "name": "Cities and Towns | المدن والبلدات",
   "parentLayerId": 5,
   "defaultVisibility": true,
   "subLayerIds": null,
   "minScale": 800000,
   "maxScale": 400000,
   "type": "Feature Layer",
   "geometryType": "esriGeometryPolygon",
   "supportsDynamicLegends": true
  },
  {
   "id": 7,
   "name": "Palestinian Localities | التجمعات السكانية",
   "parentLayerId": 5,
   "defaultVisibility": true,
   "subLayerIds": null,
   "minScale": 400000,
   "maxScale": 0,
   "type": "Feature Layer",
   "geometryType": "esriGeometryPolygon",
   "supportsDynamicLegends": true
  },
  {
   "id": 8,
   "name": "Israeli Settlements",
   "parentLayerId": -1,
   "defaultVisibility": true,
   "subLayerIds": [
    9,
    10,
    11
   ],
   "minScale": 500000,
   "maxScale": 500,
   "type": "Group Layer",
   "supportsDynamicLegends": false
  },
  {
   "id": 9,
   "name": "Settlements Builtup | المستوطنات الاسرائيلية",
   "parentLayerId": 8,
   "defaultVisibility": true,
   "subLayerIds": null,
   "minScale": 0,
   "maxScale": 0,
   "type": "Feature Layer",
   "geometryType": "esriGeometryPolygon",
   "supportsDynamicLegends": true
  },
  {
   "id": 10,
   "name": "Settlements | حدود المستوطنات",
   "parentLayerId": 8,
   "defaultVisibility": true,
   "subLayerIds": null,
   "minScale": 0,
   "maxScale": 10000,
   "type": "Feature Layer",
   "geometryType": "esriGeometryPolygon",
   "supportsDynamicLegends": true
  },
  {
   "id": 11,
   "name": "Israeli Industrial Zones | المناطق الصناعية الاسرائيلية",
   "parentLayerId": 8,
   "defaultVisibility": true,
   "subLayerIds": null,
   "minScale": 0,
   "maxScale": 0,
   "type": "Feature Layer",
   "geometryType": "esriGeometryPolygon",
   "supportsDynamicLegends": true
  },
  {
   "id": 12,
   "name": "BaseMap | خريطة الاساس",
   "parentLayerId": -1,
   "defaultVisibility": true,
   "subLayerIds": [
    13,
    14,
    15,
    16,
    17,
    18,
    19,
    20,
    21
   ],
   "minScale": 0,
   "maxScale": 0,
   "type": "Group Layer",
   "supportsDynamicLegends": false
  },
  {
   "id": 13,
   "name": "No Man's Land",
   "parentLayerId": 12,
   "defaultVisibility": true,
   "subLayerIds": null,
   "minScale": 0,
   "maxScale": 0,
   "type": "Feature Layer",
   "geometryType": "esriGeometryPolygon",
   "supportsDynamicLegends": true
  },
  {
   "id": 14,
   "name": "District",
   "parentLayerId": 12,
   "defaultVisibility": true,
   "subLayerIds": null,
   "minScale": 0,
   "maxScale": 0,
   "type": "Feature Layer",
   "geometryType": "esriGeometryPolygon",
   "supportsDynamicLegends": true
  },
  {
   "id": 15,
   "name": "CountriesBorder",
   "parentLayerId": 12,
   "defaultVisibility": true,
   "subLayerIds": null,
   "minScale": 0,
   "maxScale": 0,
   "type": "Feature Layer",
   "geometryType": "esriGeometryPolyline",
   "supportsDynamicLegends": true
  },
  {
   "id": 16,
   "name": "Jordan River",
   "parentLayerId": 12,
   "defaultVisibility": true,
   "subLayerIds": null,
   "minScale": 0,
   "maxScale": 0,
   "type": "Feature Layer",
   "geometryType": "esriGeometryPolyline",
   "supportsDynamicLegends": true
  },
  {
   "id": 17,
   "name": "Water Bodies | بيانات البحار والبحيرات ",
   "parentLayerId": 12,
   "defaultVisibility": true,
   "subLayerIds": null,
   "minScale": 0,
   "maxScale": 100,
   "type": "Feature Layer",
   "geometryType": "esriGeometryPolygon",
   "supportsDynamicLegends": true
  },
  {
   "id": 18,
   "name": "Golan Heights",
   "parentLayerId": 12,
   "defaultVisibility": true,
   "subLayerIds": null,
   "minScale": 0,
   "maxScale": 125000,
   "type": "Feature Layer",
   "geometryType": "esriGeometryPolygon",
   "supportsDynamicLegends": true
  },
  {
   "id": 19,
   "name": "West Bank Gaza Strip",
   "parentLayerId": 12,
   "defaultVisibility": true,
   "subLayerIds": null,
   "minScale": 0,
   "maxScale": 125000,
   "type": "Feature Layer",
   "geometryType": "esriGeometryPolygon",
   "supportsDynamicLegends": true
  },
  {
   "id": 20,
   "name": "Countries | الدول",
   "parentLayerId": 12,
   "defaultVisibility": true,
   "subLayerIds": null,
   "minScale": 0,
   "maxScale": 0,
   "type": "Feature Layer",
   "geometryType": "esriGeometryPolygon",
   "supportsDynamicLegends": true
  },
  {
   "id": 21,
   "name": "CountriesSurrounding",
   "parentLayerId": 12,
   "defaultVisibility": true,
   "subLayerIds": null,
   "minScale": 0,
   "maxScale": 0,
   "type": "Feature Layer",
   "geometryType": "esriGeometryPolygon",
   "supportsDynamicLegends": true
  }
 ],
 "tables": [],
 "spatialReference": {
  "wkid": 28191,
  "latestWkid": 28191,
  "xyTolerance": 0.001,
  "zTolerance": 0.001,
  "mTolerance": 0.001,
  "falseX": -4839400,
  "falseY": -13387400,
  "xyUnits": 4.5026540700157917E8,
  "falseZ": -100000,
  "zUnits": 10000,
  "falseM": -100000,
  "mUnits": 10000
 },
 "singleFusedMapCache": true,
 "tileInfo": {
  "rows": 256,
  "cols": 256,
  "dpi": 96,
  "format": "PNG",
  "compressionQuality": 0,
  "origin": {
   "x": -9831696.349903587,
   "y": 6616688.127449962
  },
  "spatialReference": {
   "wkid": 28191,
   "latestWkid": 28191,
   "xyTolerance": 0.001,
   "zTolerance": 0.001,
   "mTolerance": 0.001,
   "falseX": -4839400,
   "falseY": -13387400,
   "xyUnits": 4.5026540700157917E8,
   "falseZ": -100000,
   "zUnits": 10000,
   "falseM": -100000,
   "mUnits": 10000
  },
  "lods": [
   {
    "level": 0,
    "resolution": 78140.21800705927,
    "scale": 2.953331074282555E8
   },
   {
    "level": 1,
    "resolution": 39070.10900352964,
    "scale": 1.4766655371412775E8
   },
   {
    "level": 2,
    "resolution": 19535.05450176482,
    "scale": 7.383327685706387E7
   },
   {
    "level": 3,
    "resolution": 9767.52725088241,
    "scale": 3.691663842853194E7
   },
   {
    "level": 4,
    "resolution": 4883.763625441205,
    "scale": 1.845831921426597E7
   },
   {
    "level": 5,
    "resolution": 2441.8818127206023,
    "scale": 9229159.607132984
   },
   {
    "level": 6,
    "resolution": 1220.9409063603011,
    "scale": 4614579.803566492
   },
   {
    "level": 7,
    "resolution": 610.4704531801506,
    "scale": 2307289.901783246
   },
   {
    "level": 8,
    "resolution": 305.2352265900753,
    "scale": 1153644.950891623
   },
   {
    "level": 9,
    "resolution": 152.61761329503764,
    "scale": 576822.4754458115
   },
   {
    "level": 10,
    "resolution": 76.30880664751882,
    "scale": 288411.23772290576
   },
   {
    "level": 11,
    "resolution": 38.15440332375941,
    "scale": 144205.61886145288
   },
   {
    "level": 12,
    "resolution": 19.077201661879705,
    "scale": 72102.80943072644
   },
   {
    "level": 13,
    "resolution": 9.538600830939853,
    "scale": 36051.40471536322
   },
   {
    "level": 14,
    "resolution": 4.769300415469926,
    "scale": 18025.70235768161
   },
   {
    "level": 15,
    "resolution": 2.384650207734963,
    "scale": 9012.851178840805
   },
   {
    "level": 16,
    "resolution": 1.1923251038674816,
    "scale": 4506.4255894204025
   },
   {
    "level": 17,
    "resolution": 0.5961625519337408,
    "scale": 2253.2127947102013
   },
   {
    "level": 18,
    "resolution": 0.2980812759668704,
    "scale": 1126.6063973551006
   }
  ]
 },
 "storageInfo": {
  "storageFormat": "esriMapCacheStorageModeCompactV2",
  "packetSize": 128
 },
 "initialExtent": {
  "xmin": 106264.23315994596,
  "ymin": 91442.73234641916,
  "xmax": 219009.0302451496,
  "ymax": 194491.7254926527,
  "spatialReference": {
   "wkid": 28191,
   "latestWkid": 28191,
   "xyTolerance": 0.001,
   "zTolerance": 0.001,
   "mTolerance": 0.001,
   "falseX": -4839400,
   "falseY": -13387400,
   "xyUnits": 4.5026540700157917E8,
   "falseZ": -100000,
   "zUnits": 10000,
   "falseM": -100000,
   "mUnits": 10000
  }
 },
 "fullExtent": {
  "xmin": 21809.54116530725,
  "ymin": 25894.867311603954,
  "xmax": 295124.67112890055,
  "ymax": 251320.3181625057,
  "spatialReference": {
   "wkid": 28191,
   "latestWkid": 28191,
   "xyTolerance": 0.001,
   "zTolerance": 0.001,
   "mTolerance": 0.001,
   "falseX": -4839400,
   "falseY": -13387400,
   "xyUnits": 4.5026540700157917E8,
   "falseZ": -100000,
   "zUnits": 10000,
   "falseM": -100000,
   "mUnits": 10000
  }
 },
 "datesInUnknownTimezone": false,
 "minScale": 9229159.607132984,
 "maxScale": 1126.6063973551006,
 "minLOD": 5,
 "maxLOD": 18,
 "units": "esriMeters",
 "supportedImageFormatTypes": "PNG32,PNG24,PNG,JPG,DIB,TIFF,EMF,PS,PDF,GIF,SVG,SVGZ,BMP",
 "documentInfo": {
  "Title": "MOPWH.aprx",
  "Author": "",
  "Comments": "",
  "Subject": "",
  "Category": "",
  "AntialiasingMode": "None",
  "TextAntialiasingMode": "Force",
  "Version": "2.7.0",
  "Keywords": "BaseMap_2022"
 },
 "capabilities": "Map,Query,Data",
 "supportedQueryFormats": "JSON, geoJSON, PBF",
 "exportTilesAllowed": false,
 "referenceScale": 0.0,
 "datumTransformations": [
  {
   "geoTransforms": [
    {
     "wkid": 108001,
     "latestWkid": 1241,
     "transformForward": true,
     "name": "NAD_1927_To_NAD_1983_NADCON"
    }
   ]
  },
  {
   "geoTransforms": [
    {
     "wkid": 108001,
     "latestWkid": 1241,
     "transformForward": false,
     "name": "NAD_1927_To_NAD_1983_NADCON"
    }
   ]
  },
  {
   "geoTransforms": [
    {
     "wkid": 1071,
     "latestWkid": 1071,
     "transformForward": false,
     "name": "Palestine_1923_To_Israel_1"
    }
   ]
  },
  {
   "geoTransforms": [
    {
     "wkid": 1071,
     "latestWkid": 1071,
     "transformForward": true,
     "name": "Palestine_1923_To_Israel_1"
    }
   ]
  }
 ],
 "supportsDatumTransformation": true,
 "archivingInfo": {
  "supportsHistoricMoment": true
 },
 "supportsClipping": true,
 "supportsSpatialFilter": true,
 "supportsTimeRelation": true,
 "supportsQueryDataElements": true,
 "maxRecordCount": 2000,
 "maxImageHeight": 4096,
 "maxImageWidth": 4096,
 "supportedExtensions": "",
 "serviceItemId": "98bb57a5fb1e49308eb1d07cb04e5fc2"
}
